BEGIN:VCALENDAR
PRODID:-//github.com/rianjs/ical.net//NONSGML ical.net 4.0//EN
VERSION:2.0
BEGIN:VEVENT
DESCRIPTION:Details:\nhttps://bbyo.org/bbyo-near-you/regions/new-england-r
 egion/ner-ic-2023-delegation-meeting
DTEND:20230207T203000
DTSTAMP:20260419T122710Z
DTSTART:20230207T193000
LOCATION:
SEQUENCE:0
SUMMARY:NER IC 2023 Delegation Meeting
UID:98065473-89fd-428e-a1f9-8c00830e49d6
END:VEVENT
END:VCALENDAR
