BEGIN:VCALENDAR
PRODID:-//github.com/rianjs/ical.net//NONSGML ical.net 4.0//EN
VERSION:2.0
BEGIN:VEVENT
DESCRIPTION:Details:\nhttps://bbyo.org/bbyo-near-you/regions/north-florida
 -region/bbyo-summer-information-night!\n\nSummary:\nJoin Miami AND North 
 Florida Region for one night only to learn more about BBYO Summer program
 s\, including CLTC\, ITLC\, Kallah\, and Israel travel\, to name a few! C
 ome and get all your questio
DTEND:20201015T200000
DTSTAMP:20260425T235052Z
DTSTART:20201015T190000
LOCATION:Zoom
SEQUENCE:0
SUMMARY:BBYO Summer Information Night!
UID:1f6920c9-c869-4cf4-90b7-fd67e38476e2
END:VEVENT
END:VCALENDAR
