BEGIN:VCALENDAR
PRODID:-//github.com/rianjs/ical.net//NONSGML ical.net 4.0//EN
VERSION:2.0
BEGIN:VEVENT
DESCRIPTION:Details:\nhttps://bbyo.org/bbyo-near-you/regions/delta-region/
 nashville-springcon-transportation
DTEND:20220403T150000
DTSTAMP:20260423T091858Z
DTSTART:20220401T143000
LOCATION:Gordon JCC
SEQUENCE:0
SUMMARY:Nashville SpringCon Transportation
UID:48e39c2b-1f7f-478f-a2a1-24235b93f117
END:VEVENT
END:VCALENDAR
