BEGIN:VCALENDAR
PRODID:-//github.com/rianjs/ical.net//NONSGML ical.net 4.0//EN
VERSION:2.0
BEGIN:VEVENT
DESCRIPTION:Details:\nhttps://bbyo.org/bbyo-near-you/regions/north-texas-o
 klahoma-region/dallas-connect-at-urban-air\n\nSummary:\nDallas Connect ca
 lls all 6-8th graders for a night out at Urban Air! From endless trampoli
 nes to the battle beam to the obstacle course\, it'll be a night to remem
 ber with friends\, food and f
DTEND:20181006T223000
DTSTAMP:20260420T181017Z
DTSTART:20181006T203000
LOCATION:Dallas Texas
SEQUENCE:0
SUMMARY:Dallas Connect at Urban Air
UID:57fbe5a6-dd5e-4828-b9bb-4c1d24032511
END:VEVENT
END:VCALENDAR
