BEGIN:VCALENDAR
PRODID:-//github.com/rianjs/ical.net//NONSGML ical.net 4.0//EN
VERSION:2.0
BEGIN:VEVENT
DESCRIPTION:Details:\nhttps://bbyo.org/bbyo-near-you/regions/great-midwest
 -region/naperville-parent-meet-and-greet-info-session\n\nSummary:\nParent
 s and teens are invited to come enjoy bagels while meeting other parents 
 form the community some of the BBYO Regional Staff. We will have a short 
 presentation about the leadership opportunities available to your teens t
 his year and answer any questions you have about BBYO and upcoming events
 . Open to all involved or interested in getting invovled with BBYO.
DTEND:20191103T123000
DTSTAMP:20260423T200333Z
DTSTART:20191103T113000
LOCATION:Naperville Illinois
SEQUENCE:0
SUMMARY:Naperville Parent meet and greet info session
UID:98c42e02-f5d4-4f93-a6dc-64b87f2cbfc4
END:VEVENT
END:VCALENDAR
