BEGIN:VCALENDAR
PRODID:-//github.com/rianjs/ical.net//NONSGML ical.net 4.0//EN
VERSION:2.0
BEGIN:VEVENT
DESCRIPTION:Details:\nhttps://bbyo.org/bbyo-near-you/regions/pacific-weste
 rn-region/prep-for-regional-elections\n\nSummary:\nJoin PWR as we go over
  instructions and the "how-to's" for our upcoming 10th Regional Board Ele
 ctions.
DTEND:20210510T190000
DTSTAMP:20260422T202306Z
DTSTART:20210510T180000
LOCATION:Zoom
SEQUENCE:0
SUMMARY:Prep for Regional Elections
UID:bd675508-0b3a-4028-8b9e-069fe6dbc718
END:VEVENT
END:VCALENDAR
