BEGIN:VCALENDAR
PRODID:-//github.com/rianjs/ical.net//NONSGML ical.net 4.0//EN
VERSION:2.0
BEGIN:VEVENT
DESCRIPTION:Details:\nhttps://bbyo.org/bbyo-near-you/regions/mountain-regi
 on/tc-dance
DTEND;VALUE=DATE:20061122
DTSTAMP:20260423T223336Z
DTSTART;VALUE=DATE:20061122
LOCATION:King David
SEQUENCE:0
SUMMARY:TC Dance
UID:ce8c8790-e290-43af-86e2-4917e1e70135
END:VEVENT
END:VCALENDAR
