BEGIN:VCALENDAR
PRODID:-//github.com/rianjs/ical.net//NONSGML ical.net 4.0//EN
VERSION:2.0
BEGIN:VEVENT
DESCRIPTION:Details:\nhttps://bbyo.org/bbyo-near-you/regions/hudson-valley
 -region/hvr-january-execs
DTEND:20220130T130000
DTSTAMP:20260423T195734Z
DTSTART:20220130T110000
LOCATION:Zoom
SEQUENCE:0
SUMMARY:HVR January Execs
UID:af5ff716-ffc2-4f45-8180-6b53b9b48568
END:VEVENT
END:VCALENDAR
