BEGIN:VCALENDAR
PRODID:-//github.com/rianjs/ical.net//NONSGML ical.net 4.0//EN
VERSION:2.0
BEGIN:VEVENT
DESCRIPTION:Details:\nhttps://bbyo.org/bbyo-near-you/regions/hudson-valley
 -region/spin-4-a-cause\n\nSummary:\nhttps://www.eventbrite.com/e/spin-for
 -a-cause-tickets-23719435470
DTEND:20160410T143000
DTSTAMP:20260419T155728Z
DTSTART:20160410T123000
LOCATION:NYSC Dobbs Ferry
SEQUENCE:0
SUMMARY:Spin 4 a Cause
UID:2583c1fe-c565-462f-8ec5-c9c40c40fa48
END:VEVENT
END:VCALENDAR
