BEGIN:VCALENDAR
PRODID:-//github.com/rianjs/ical.net//NONSGML ical.net 4.0//EN
VERSION:2.0
BEGIN:VEVENT
DESCRIPTION:Details:\nhttps://bbyo.org/bbyo-near-you/regions/mountain-regi
 on/bbg-shabbat
DTEND;VALUE=DATE:20061110
DTSTAMP:20260424T092450Z
DTSTART:20061110T170000
LOCATION:Scottsdale
SEQUENCE:0
SUMMARY:BBG Shabbat
UID:dfea1177-eece-49c4-ada8-26bb07b32f5e
END:VEVENT
END:VCALENDAR
