BEGIN:VCALENDAR
PRODID:-//github.com/rianjs/ical.net//NONSGML ical.net 4.0//EN
VERSION:2.0
BEGIN:VEVENT
DESCRIPTION:Details:\nhttps://bbyo.org/bbyo-near-you/regions/south-jersey-
 region/sjr-yacht-party-kickoff\n\nSummary:\nWe can't wait to kick off the
  2022-2023 school year with our Kickoff Yacht Party! Join over 150 Jewish
  teens for a night of cruising\, schmoozing\, and grooving! There will be
  a buffet lunch\, DJ\, dancing\, instagramable moments\, games\, and more
 !\n
DTEND:20221023T153000
DTSTAMP:20260422T101408Z
DTSTART:20221023T113000
LOCATION:Spirit of Philadelphia
SEQUENCE:0
SUMMARY:SJR Yacht Party Kickoff
UID:e424ddf5-0635-4e9f-a650-62a309a21f2f
END:VEVENT
END:VCALENDAR
