BEGIN:VCALENDAR
PRODID:-//github.com/rianjs/ical.net//NONSGML ical.net 4.0//EN
VERSION:2.0
BEGIN:VEVENT
DESCRIPTION:Details:\nhttps://bbyo.org/bbyo-near-you/regions/lonestar-regi
 on/austin-beau-sweetheart-dance-and-new-member-kickof\n\nSummary:\nJoin A
 ustin BBYO for their annual Beau-Sweetheart Dance and New Member Kickoff!
  8th graders and current members are invited to cheer on our Nom Competit
 ion\, experience awesome giant inflatable games\, enjoy sweet frozen drin
 ks and a chocolate fountain!
DTEND:20190119T220000
DTSTAMP:20260425T182937Z
DTSTART:20190119T200000
LOCATION:Austin Texas
SEQUENCE:0
SUMMARY:Austin Beau-Sweetheart Dance and New Member Kickoff
UID:cdd9f015-683b-435c-9c0e-27482a8926f4
END:VEVENT
END:VCALENDAR
