BEGIN:VCALENDAR
PRODID:-//github.com/rianjs/ical.net//NONSGML ical.net 4.0//EN
VERSION:2.0
BEGIN:VEVENT
DESCRIPTION:Details:\nhttps://bbyo.org/bbyo-near-you/regions/evergreen-reg
 ion/egr-hat-@-shuk
DTEND:20230530T130000
DTSTAMP:20260420T134522Z
DTSTART:20230530T120000
LOCATION:Shuk at L'dor V'dor Convention
SEQUENCE:0
SUMMARY:EGR Hat @ Shuk
UID:d9e1ee1c-4b8a-4317-abfb-af8c00bfdb03
END:VEVENT
END:VCALENDAR
