BEGIN:VCALENDAR
PRODID:-//github.com/rianjs/ical.net//NONSGML ical.net 4.0//EN
VERSION:2.0
BEGIN:VEVENT
DESCRIPTION:Details:\nhttps://bbyo.org/bbyo-near-you/regions/keystone-moun
 tain-region/kmr-spring-convention
DTEND:20240421T140000
DTSTAMP:20260425T122851Z
DTSTART:20240419T160000
LOCATION:
SEQUENCE:0
SUMMARY:KMR Spring Convention
UID:bd53e714-fc03-486a-9be5-7a011fb1fcfd
END:VEVENT
END:VCALENDAR
