BEGIN:VCALENDAR
PRODID:-//github.com/rianjs/ical.net//NONSGML ical.net 4.0//EN
VERSION:2.0
BEGIN:VEVENT
DESCRIPTION:Details:\nhttps://bbyo.org/bbyo-near-you/regions/mid-america-r
 egion-kansas-city-council/nordaunian/nordau-two-s-sleepover
DTEND:20221030T084500
DTSTAMP:20260425T194444Z
DTSTART:20221029T193000
LOCATION:Overland Park Kansas
SEQUENCE:0
SUMMARY:Nordau & Two's Sleepover
UID:cebe9e7e-2ea0-465f-a4c6-d7f7371babb6
END:VEVENT
END:VCALENDAR
