BEGIN:VCALENDAR
PRODID:-//github.com/rianjs/ical.net//NONSGML ical.net 4.0//EN
VERSION:2.0
BEGIN:VEVENT
DESCRIPTION:Details:\nhttps://bbyo.org/bbyo-near-you/regions/wisconsin-reg
 ion/wi-bbyo-connect-snowtubing-(pc5110)
DTEND;VALUE=DATE:20161223
DTSTAMP:20260425T182956Z
DTSTART;VALUE=DATE:20161223
LOCATION:
SEQUENCE:0
SUMMARY:WI - BBYO Connect - Snowtubing (PC5110)
UID:8828f654-70fb-408d-b205-5ebe432c854c
END:VEVENT
END:VCALENDAR
