BEGIN:VCALENDAR
PRODID:-//github.com/rianjs/ical.net//NONSGML ical.net 4.0//EN
VERSION:2.0
BEGIN:VEVENT
DESCRIPTION:Details:\nhttps://bbyo.org/bbyo-near-you/regions/new-england-r
 egion/ner-beau-sweetheart-dance-2024
DTEND:20240316T230000
DTSTAMP:20260423T001931Z
DTSTART:20240316T201500
LOCATION:Boston- Location in Email
SEQUENCE:0
SUMMARY:NER Beau Sweetheart Dance 2024
UID:136e5baa-5ed1-4a21-8be1-930db340b8cc
END:VEVENT
END:VCALENDAR
