BEGIN:VCALENDAR
PRODID:-//github.com/rianjs/ical.net//NONSGML ical.net 4.0//EN
VERSION:2.0
BEGIN:VEVENT
DESCRIPTION:Details:\nhttps://bbyo.org/bbyo-near-you/regions/liberty-regio
 n/liberty-aza-shabbat-brotherhood-sleepover
DTEND:20240406T180000
DTSTAMP:20260425T235515Z
DTSTART:20240405T174500
LOCATION:BTBJ
SEQUENCE:0
SUMMARY:Liberty AZA Shabbat Brotherhood Sleepover
UID:c5cb4228-451b-429e-8d5b-c60bf4c481b2
END:VEVENT
END:VCALENDAR
