BEGIN:VCALENDAR
PRODID:-//github.com/rianjs/ical.net//NONSGML ical.net 4.0//EN
VERSION:2.0
BEGIN:VEVENT
DESCRIPTION:Details:\nhttps://bbyo.org/bbyo-near-you/regions/pacific-weste
 rn-region/pwr-la-area-kickoff
DTEND:20221002T180000
DTSTAMP:20260420T180407Z
DTSTART:20221002T110000
LOCATION:Dodger Stadium
SEQUENCE:0
SUMMARY:PWR LA Area Kickoff
UID:2dd8e1b7-d2f7-4e11-8e91-c26ef4460e9d
END:VEVENT
END:VCALENDAR
