BEGIN:VCALENDAR
PRODID:-//github.com/rianjs/ical.net//NONSGML ical.net 4.0//EN
VERSION:2.0
BEGIN:VEVENT
DESCRIPTION:Details:\nhttps://bbyo.org/bbyo-near-you/regions/keystone-moun
 tain-region/j-serve-2023-treat-people-with-kindness
DTEND:20230416T150000
DTSTAMP:20260422T113526Z
DTSTART:20230416T090000
LOCATION:JCC PGH
SEQUENCE:0
SUMMARY:J-Serve 2023 - Treat People with Kindness
UID:36d829db-0ee3-41ec-8783-7e12d860103b
END:VEVENT
END:VCALENDAR
