BEGIN:VCALENDAR
PRODID:-//github.com/rianjs/ical.net//NONSGML ical.net 4.0//EN
VERSION:2.0
BEGIN:VEVENT
DESCRIPTION:Details:\nhttps://bbyo.org/bbyo-near-you/regions/manhattan-reg
 ion/mhr-ic-launch-night-2022
DTEND:20220922T210000
DTSTAMP:20260423T042535Z
DTSTART:20220922T194500
LOCATION:ZOOM
SEQUENCE:0
SUMMARY:MHR: IC LAUNCH NIGHT 2022
UID:1c20add1-127e-4948-9b5e-4987e9d54604
END:VEVENT
END:VCALENDAR
