BEGIN:VCALENDAR
PRODID:-//github.com/rianjs/ical.net//NONSGML ical.net 4.0//EN
VERSION:2.0
BEGIN:VEVENT
DESCRIPTION:Details:\nhttps://bbyo.org/bbyo-near-you/regions/evergreen-reg
 ion/ruach-convention-spring-2021\n\nSummary:\nRuach Convention 2021
DTEND:20210131T120000
DTSTAMP:20260426T030258Z
DTSTART:20210129T160000
LOCATION:Virtual
SEQUENCE:0
SUMMARY:Ruach Convention Spring 2021
UID:4f54339b-594b-477c-9520-296f9ac17a9c
END:VEVENT
END:VCALENDAR
