BEGIN:VCALENDAR
PRODID:-//github.com/rianjs/ical.net//NONSGML ical.net 4.0//EN
VERSION:2.0
BEGIN:VEVENT
DESCRIPTION:Details:\nhttps://bbyo.org/bbyo-near-you/regions/northern-regi
 on-east-dc-council/montgomery-county-monday-meet-up
DTEND:20230522T200000
DTSTAMP:20260422T101408Z
DTSTART:20230522T190000
LOCATION:
SEQUENCE:0
SUMMARY:Montgomery County Monday Meet Up
UID:3d4f22da-0de0-49ff-8e34-7fb51a27a32b
END:VEVENT
END:VCALENDAR
