BEGIN:VCALENDAR
PRODID:-//github.com/rianjs/ical.net//NONSGML ical.net 4.0//EN
VERSION:2.0
BEGIN:VEVENT
DESCRIPTION:Details:\nhttps://bbyo.org/bbyo-near-you/regions/gold-coast-re
 gion/gcr-latke-ball-2015!\n\nSummary:\nCome celebrate with Gold Coast on 
 Christmas Eve for our annual Latke Ball Dance! Any Jewish teen in grades 
 8-12 are welcome!
DTEND:20151224T230000
DTSTAMP:20260425T182938Z
DTSTART:20151224T203000
LOCATION:The Lofts At Congress
SEQUENCE:0
SUMMARY:GCR Latke Ball 2015!
UID:bc623a00-1f7c-419a-87a9-aac80af5e85c
END:VEVENT
END:VCALENDAR
