BEGIN:VCALENDAR
PRODID:-//github.com/rianjs/ical.net//NONSGML ical.net 4.0//EN
VERSION:2.0
BEGIN:VEVENT
DESCRIPTION:Details:\nhttps://bbyo.org/bbyo-near-you/regions/mid-america-r
 egion-omaha-council/omaha-council-board-install-and-farewell-program
DTEND:20240514T200000
DTSTAMP:20260423T215241Z
DTSTART:20240514T180000
LOCATION:JCC
SEQUENCE:0
SUMMARY:Omaha Council Board Install and Farewell Program
UID:51eeec64-fff2-44e7-8076-da5d6c56207b
END:VEVENT
END:VCALENDAR
