BEGIN:VCALENDAR
PRODID:-//github.com/rianjs/ical.net//NONSGML ical.net 4.0//EN
VERSION:2.0
BEGIN:VEVENT
DESCRIPTION:Details:\nhttps://bbyo.org/bbyo-near-you/regions/north-texas-o
 klahoma-region/b-yachad-l-tid-4th-steering-meeting
DTEND:20231030T190000
DTSTAMP:20260423T020623Z
DTSTART:20231030T173000
LOCATION:Zoom!
SEQUENCE:0
SUMMARY:B'yachad L'tid 4th Steering Meeting
UID:8ab6ccce-3531-4f16-b072-0276ce94b416
END:VEVENT
END:VCALENDAR
