BEGIN:VCALENDAR
PRODID:-//github.com/rianjs/ical.net//NONSGML ical.net 4.0//EN
VERSION:2.0
BEGIN:VEVENT
DESCRIPTION:Details:\nhttps://bbyo.org/bbyo-near-you/regions/lake-ontario-
 region/bbyo-connect-snow-tubing-(1)\n\nSummary:\nContact BBYO at info@bby
 o.ca or 416.398.2004 for more information.
DTEND:20200119T181500
DTSTAMP:20260423T200724Z
DTSTART:20200119T121500
LOCATION:Chicopee Tube Park
SEQUENCE:0
SUMMARY:BBYO Connect Snow Tubing
UID:e3a33ac3-8bd0-4372-a63d-c177579e2fd5
END:VEVENT
END:VCALENDAR
