BEGIN:VCALENDAR
PRODID:-//github.com/rianjs/ical.net//NONSGML ical.net 4.0//EN
VERSION:2.0
BEGIN:VEVENT
DESCRIPTION:Details:\nhttps://bbyo.org/bbyo-near-you/regions/nassau-suffol
 k-region/presidents-aym-chaverot-meeting
DTEND:20070107T160000
DTSTAMP:20260421T043355Z
DTSTART:20070107T110000
LOCATION:Regional Office
SEQUENCE:0
SUMMARY:Presidents/Aym Chaverot Meeting
UID:ccb872ba-7200-4c28-9f71-9631f4355b12
END:VEVENT
END:VCALENDAR
