BEGIN:VCALENDAR
PRODID:-//github.com/rianjs/ical.net//NONSGML ical.net 4.0//EN
VERSION:2.0
BEGIN:VEVENT
DESCRIPTION:Details:\nhttps://bbyo.org/bbyo-near-you/regions/lonestar-regi
 on/azaa-flag-football-week-3-(1)
DTEND:20200308T150000
DTSTAMP:20260421T223737Z
DTSTART:20200308T140000
LOCATION:Houston Texas
SEQUENCE:0
SUMMARY:AZAA Flag Football Week 3
UID:420b67e5-2b63-46d0-af7d-9d38f1437a99
END:VEVENT
END:VCALENDAR
