BEGIN:VCALENDAR
PRODID:-//github.com/rianjs/ical.net//NONSGML ical.net 4.0//EN
VERSION:2.0
BEGIN:VEVENT
DESCRIPTION:Details:\nhttps://bbyo.org/bbyo-near-you/regions/mid-america-r
 egion-omaha-council/sukkah-building-with-b-nai-b-rith
DTEND:20210919T120000
DTSTAMP:20260419T145830Z
DTSTART:20210919T110000
LOCATION:Omaha JCC
SEQUENCE:0
SUMMARY:Sukkah Building with B'nai B'rith
UID:307d5c06-743d-46ed-b74f-1300e52fcac4
END:VEVENT
END:VCALENDAR
