BEGIN:VCALENDAR
PRODID:-//github.com/rianjs/ical.net//NONSGML ical.net 4.0//EN
VERSION:2.0
BEGIN:VEVENT
DESCRIPTION:Details:\nhttps://bbyo.org/bbyo-near-you/regions/northern-regi
 on-east-baltimore-council/baltimore-bbyo-fall-parent-information-session
DTEND:20210930T200000
DTSTAMP:20260424T083230Z
DTSTART:20210930T190000
LOCATION:Zoom- link will be sent to registrants
SEQUENCE:0
SUMMARY:Baltimore BBYO Fall Parent Information Session
UID:9457c708-1453-47a3-873d-ebd9a2a344e3
END:VEVENT
END:VCALENDAR
