BEGIN:VCALENDAR
PRODID:-//github.com/rianjs/ical.net//NONSGML ical.net 4.0//EN
VERSION:2.0
BEGIN:VEVENT
DESCRIPTION:Details:\nhttps://bbyo.org/bbyo-near-you/regions/north-texas-o
 klahoma-region/nto-ic-launch-party\n\nSummary:\nThursday\, October 8th \n
 BBYO IC Launch Party\nSpork (patio)\n6110 Frankford Rd. Dallas\, TX 75252
 \n6:00 – 8:30 pm \n*20% of ticket sales will be donated to BBYO (for scho
 larships)
DTEND:20151008T203000
DTSTAMP:20260420T191911Z
DTSTART:20151008T180000
LOCATION:Spork
SEQUENCE:0
SUMMARY:NTO IC Launch Party
UID:7a539554-92c9-4383-80c9-0749d567e72d
END:VEVENT
END:VCALENDAR
