BEGIN:VCALENDAR
PRODID:-//github.com/rianjs/ical.net//NONSGML ical.net 4.0//EN
VERSION:2.0
BEGIN:VEVENT
DESCRIPTION:Details:\nhttps://bbyo.org/bbyo-near-you/regions/liberty-regio
 n/liberty-tournies-convention-2015-(pc3010)\n\nSummary:\nTournies Novembe
 r 13th-15th\, 2015 at the Harrisburg JCC (Teens are hosted by local teens
  and families) \n\n**EARLY BIRD DEADLINE - OCTOBER 23rd - $165\n\n**FINAL
  DEADLINE IS OCTOBER 24th-30t
DTEND:20151115T150000
DTSTAMP:20260426T030755Z
DTSTART:20151113T170000
LOCATION:Harrisburg JCC
SEQUENCE:0
SUMMARY:Liberty Tournies Convention 2015 - (PC3010)
UID:2191a4c8-b761-40d1-8c11-45833bc29ce9
END:VEVENT
END:VCALENDAR
