BEGIN:VCALENDAR
PRODID:-//github.com/rianjs/ical.net//NONSGML ical.net 4.0//EN
VERSION:2.0
BEGIN:VEVENT
DESCRIPTION:Details:\nhttps://bbyo.org/bbyo-near-you/regions/rocky-mountai
 n-region/denver-chapter-meetings-1-23-07
DTEND:20070123T204500
DTSTAMP:20260424T165517Z
DTSTART:20070123T191500
LOCATION:Denver JCC
SEQUENCE:0
SUMMARY:Denver Chapter Meetings 1/23/07
UID:238101fa-910a-4362-8ff8-ac20424dce14
END:VEVENT
END:VCALENDAR
