BEGIN:VCALENDAR
PRODID:-//github.com/rianjs/ical.net//NONSGML ical.net 4.0//EN
VERSION:2.0
BEGIN:VEVENT
DESCRIPTION:Details:\nhttps://bbyo.org/bbyo-near-you/regions/lake-ontario-
 region/lor-fall-convention-2022
DTEND;VALUE=DATE:20221023
DTSTAMP:20260422T202407Z
DTSTART;VALUE=DATE:20221021
LOCATION:Niagara Falls
SEQUENCE:0
SUMMARY:LOR Fall Convention 2022
UID:48910273-ce93-45c0-835f-5ff8da57054f
END:VEVENT
END:VCALENDAR
