BEGIN:VCALENDAR
PRODID:-//github.com/rianjs/ical.net//NONSGML ical.net 4.0//EN
VERSION:2.0
BEGIN:VEVENT
DESCRIPTION:Details:\nhttps://bbyo.org/bbyo-near-you/regions/miami-region/
 miami-rooftop-soccer
DTEND;VALUE=DATE:20170522
DTSTAMP:20260422T055025Z
DTSTART;VALUE=DATE:20170521
LOCATION:
SEQUENCE:0
SUMMARY:Miami- Rooftop Soccer
UID:8e03e51b-9894-459a-8c20-032212d31c90
END:VEVENT
END:VCALENDAR
