BEGIN:VCALENDAR
PRODID:-//github.com/rianjs/ical.net//NONSGML ical.net 4.0//EN
VERSION:2.0
BEGIN:VEVENT
DESCRIPTION:Details:\nhttps://bbyo.org/bbyo-near-you/regions/nassau-suffol
 k-region/nsr-kickoff-shabbat-2021
DTEND:20210917T210000
DTSTAMP:20260425T182706Z
DTSTART:20210917T183000
LOCATION:Plainview New York
SEQUENCE:0
SUMMARY:NSR Kickoff Shabbat 2021
UID:2d415807-b2f6-4b69-8d31-17c35a75345c
END:VEVENT
END:VCALENDAR
