BEGIN:VCALENDAR
PRODID:-//github.com/rianjs/ical.net//NONSGML ical.net 4.0//EN
VERSION:2.0
BEGIN:VEVENT
DESCRIPTION:Details:\nhttps://bbyo.org/bbyo-near-you/regions/ohio-northern
 -region/winter-rush\n\nSummary:\nCome on out to ONR Winter Rush and get t
 o know all of the BBYO chapters in Cleveland. Participate in some fun gam
 es\, meet new people\, and see what BBYO chapter is right for you. We hav
 e some
DTEND:20190207T183000
DTSTAMP:20260420T132351Z
DTSTART:20190207T173000
LOCATION:Beachwood Ohio
SEQUENCE:0
SUMMARY:Winter Rush
UID:214fb017-df1b-45b0-b94a-fe1e4b62b653
END:VEVENT
END:VCALENDAR
