BEGIN:VCALENDAR
PRODID:-//github.com/rianjs/ical.net//NONSGML ical.net 4.0//EN
VERSION:2.0
BEGIN:VEVENT
DESCRIPTION:Details:\nhttps://bbyo.org/bbyo-near-you/regions/connecticut-v
 alley-region/cvr-spring-kallah-seniors-only-2-in-a-room-(thurs-
DTEND:20220508T130000
DTSTAMP:20260424T083359Z
DTSTART:20220505T160000
LOCATION:
SEQUENCE:0
SUMMARY:CVR Spring Kallah SENIORS ONLY 2 in a room  (Thurs-Sun)
UID:39cd61ee-489b-4f48-b2ad-59d22bc0faaf
END:VEVENT
END:VCALENDAR
