BEGIN:VCALENDAR
PRODID:-//github.com/rianjs/ical.net//NONSGML ical.net 4.0//EN
VERSION:2.0
BEGIN:VEVENT
DESCRIPTION:Details:\nhttps://bbyo.org/bbyo-near-you/regions/central-regio
 n-west/crw-pre-ic-delegation-meeting
DTEND:20240208T200000
DTSTAMP:20260422T120544Z
DTSTART:20240208T190000
LOCATION:Zoom
SEQUENCE:0
SUMMARY:CRW Pre-IC Delegation Meeting
UID:54bfcdd6-4cb2-4c1e-b890-115f6a222dcd
END:VEVENT
END:VCALENDAR
