BEGIN:VCALENDAR
PRODID:-//github.com/rianjs/ical.net//NONSGML ical.net 4.0//EN
VERSION:2.0
BEGIN:VEVENT
DESCRIPTION:Details:\nhttps://bbyo.org/bbyo-near-you/regions/nassau-suffol
 k-region/parents-appeal-2005
DTEND;VALUE=DATE:20060121
DTSTAMP:20260425T200923Z
DTSTART;VALUE=DATE:20050121
LOCATION:
SEQUENCE:0
SUMMARY:Parents Appeal 2005
UID:b4b81029-3aab-40b8-95b4-b77cef391a00
END:VEVENT
END:VCALENDAR
