BEGIN:VCALENDAR
PRODID:-//github.com/rianjs/ical.net//NONSGML ical.net 4.0//EN
VERSION:2.0
BEGIN:VEVENT
DESCRIPTION:Details:\nhttps://bbyo.org/bbyo-near-you/regions/northern-regi
 on-east-dc-council/howard-county-recruitment-event
DTEND:20240922T160000
DTSTAMP:20260422T221613Z
DTSTART:20240922T143000
LOCATION:Fulton Maryland
SEQUENCE:0
SUMMARY:Howard County Recruitment Event
UID:b779b72c-bff5-4182-ae1f-1094917ec89d
END:VEVENT
END:VCALENDAR
