BEGIN:VCALENDAR
PRODID:-//github.com/rianjs/ical.net//NONSGML ical.net 4.0//EN
VERSION:2.0
BEGIN:VEVENT
DESCRIPTION:Details:\nhttps://bbyo.org/bbyo-near-you/regions/north-texas-o
 klahoma-region/b-yachad-l-tid-1st-steering-meeting
DTEND:20231004T200000
DTSTAMP:20260423T200442Z
DTSTART:20231004T190000
LOCATION:Zoom!
SEQUENCE:0
SUMMARY:B'yachad L'tid 1st Steering Meeting
UID:4cf68a23-2a39-4d2f-8ee6-111b5ff0f650
END:VEVENT
END:VCALENDAR
