BEGIN:VCALENDAR
PRODID:-//github.com/rianjs/ical.net//NONSGML ical.net 4.0//EN
VERSION:2.0
BEGIN:VEVENT
DESCRIPTION:Details:\nhttps://bbyo.org/bbyo-near-you/regions/michigan-regi
 on/mi\,-don-t-text-and-drive\,-2015-(pc-5000)
DTEND:20151011T180000
DTSTAMP:20260425T183157Z
DTSTART:20151011T160000
LOCATION:Paradise Park
SEQUENCE:0
SUMMARY:MI\, Don't Text and Drive\, 2015 (PC: 5000)
UID:37fc0a6a-82e8-4576-8a61-dd77c5e60c6a
END:VEVENT
END:VCALENDAR
