BEGIN:VCALENDAR
PRODID:-//github.com/rianjs/ical.net//NONSGML ical.net 4.0//EN
VERSION:2.0
BEGIN:VEVENT
DESCRIPTION:Details:\nhttps://bbyo.org/bbyo-near-you/regions/connecticut-v
 alley-region/noah-pozner-chapter-event
DTEND;VALUE=DATE:20160204
DTSTAMP:20260423T195907Z
DTSTART;VALUE=DATE:20160204
LOCATION:
SEQUENCE:0
SUMMARY:noah pozner chapter event
UID:95c49dc7-b33a-449e-ba06-e84258724433
END:VEVENT
END:VCALENDAR
