BEGIN:VCALENDAR
PRODID:-//github.com/rianjs/ical.net//NONSGML ical.net 4.0//EN
VERSION:2.0
BEGIN:VEVENT
DESCRIPTION:Details:\nhttps://bbyo.org/bbyo-near-you/regions/hudson-valley
 -region/ti-new-rochelle-interest-meeting
DTEND:20211209T190000
DTSTAMP:20260422T113526Z
DTSTART:20211209T180000
LOCATION:Temple Israel New Rochelle
SEQUENCE:0
SUMMARY:TI New Rochelle Interest Meeting
UID:e2fcab09-8e3e-4bb6-8a38-f394484375de
END:VEVENT
END:VCALENDAR
