BEGIN:VCALENDAR
PRODID:-//github.com/rianjs/ical.net//NONSGML ical.net 4.0//EN
VERSION:2.0
BEGIN:VEVENT
DESCRIPTION:Details:\nhttps://bbyo.org/bbyo-near-you/regions/northern-regi
 on-east-dc-council/dc-council-jcada-workshop\n\nSummary:\nDC Council is h
 osting an interactive workshop facilitated by the Jewish Coalition Agains
 t Domestic Abuse (JCADA). Based on CDC best practices\, this interactive\
 , hands-on program promotes hea
DTEND:20210213T160000
DTSTAMP:20260425T235512Z
DTSTART:20210213T143000
LOCATION:Zoom
SEQUENCE:0
SUMMARY:DC Council JCADA Workshop
UID:b3bbdddf-2a65-45ae-9590-f64054185443
END:VEVENT
END:VCALENDAR
