BEGIN:VCALENDAR
PRODID:-//github.com/rianjs/ical.net//NONSGML ical.net 4.0//EN
VERSION:2.0
BEGIN:VEVENT
DESCRIPTION:Details:\nhttps://bbyo.org/bbyo-near-you/regions/northern-regi
 on-east-northern-virginia-council/trick-or-treat-so-others-can-eat\n\nSum
 mary:\nIf you are a member or prospect of Liviu Librescu AZA\, Haganah BB
 G\, or Lahat BBG\, come out to this Saváge program\, Trick or Treat So Ot
 hers Can Eat! Please bring cans to donate for those in
DTEND:20151031T210000
DTSTAMP:20260426T030257Z
DTSTART:20151031T190000
LOCATION:Sophie Dornfeld's house
SEQUENCE:0
SUMMARY:Trick or Treat So Others Can Eat
UID:e5d36446-34c2-4188-8891-859f691e8821
END:VEVENT
END:VCALENDAR
