BEGIN:VCALENDAR
PRODID:-//github.com/rianjs/ical.net//NONSGML ical.net 4.0//EN
VERSION:2.0
BEGIN:VEVENT
DESCRIPTION:Details:\nhttps://bbyo.org/bbyo-near-you/regions/pacific-weste
 rn-region/pwr-embroidered-sweatshirts\n\nSummary:\nGet your official PWR 
 sweatshirt today! Help keep PWR and the BBYO spirit alive by representing
  the best region in the order!
DTEND:20200802T030000
DTSTAMP:20260419T123207Z
DTSTART:20200601T150000
LOCATION:
SEQUENCE:0
SUMMARY:PWR Embroidered Sweatshirts
UID:7be207cd-9d25-48dd-a72f-938f9c4e20a4
END:VEVENT
END:VCALENDAR
