BEGIN:VCALENDAR
PRODID:-//github.com/rianjs/ical.net//NONSGML ical.net 4.0//EN
VERSION:2.0
BEGIN:VEVENT
DESCRIPTION:Details:\nhttps://bbyo.org/bbyo-near-you/regions/delta-region/
 birmingham-winter-convention-transportation\n\nSummary:\nTransportation t
 o and from convention for Birmingham teens.
DTEND:20200120T120000
DTSTAMP:20260424T233607Z
DTSTART:20200117T150000
LOCATION:Chabad of Alabama
SEQUENCE:0
SUMMARY:Birmingham - Winter Convention Transportation
UID:4495a52f-23ee-476f-9464-411297931bd8
END:VEVENT
END:VCALENDAR
